BEGIN:VCALENDAR
PRODID:-//eluceo/ical//2.0/EN
VERSION:2.0
CALSCALE:GREGORIAN
BEGIN:VEVENT
UID:3e79ff730623412193221c1f7c6ba17d
DTSTAMP:20260421T184917Z
SUMMARY:6p - Swim Team vs. Fort Sanders- AJCC Pool
DESCRIPTION:The Knoxville Jewish Alliance\nThe Knoxville Jewish Alliance Ca
 lendar\nhttps://jewishknoxville.org/calendar/600-pm-fort-sanders-swim-meet
 --ajcc-pool-186553\n\nUniversity Swim Club Smokin' Salmon Fort Sanders Swi
 m Meet
DTSTART;TZID=America/New_York:20160719T180000
DTEND;TZID=America/New_York:20160719T220000
END:VEVENT
END:VCALENDAR
