BEGIN:VCALENDAR
PRODID:-//eluceo/ical//2.0/EN
VERSION:2.0
CALSCALE:GREGORIAN
BEGIN:VEVENT
UID:18193441f51ce11b53316179c8dbc3f5
DTSTAMP:20260423T070154Z
SUMMARY:6:00 p.m. - GKAISA Meeting - AJCC Orwitz Room
DESCRIPTION:The Knoxville Jewish Alliance\nThe Knoxville Jewish Alliance Ca
 lendar\nhttps://jewishknoxville.org/calendar/600-pm-gkaisa-meeting--ajcc-o
 rwitz-room20181-261888\n\nGKAISA Meeting
DTSTART;TZID=America/New_York:20180405T180000
DTEND;TZID=America/New_York:20180405T200000
END:VEVENT
END:VCALENDAR
