BEGIN:VCALENDAR
PRODID:-//eluceo/ical//2.0/EN
VERSION:2.0
CALSCALE:GREGORIAN
BEGIN:VEVENT
UID:ec946f3dd322da9ec05f13cfdc596582
DTSTAMP:20260423T183301Z
SUMMARY:6:00 pm-HAWL Rotating Community Rosh Chodesh-HAS
DESCRIPTION:The Knoxville Jewish Alliance\nThe Knoxville Jewish Alliance Ca
 lendar\nhttps://jewishknoxville.org/calendar/600-pm-rotating-community-ros
 h-chodesh\n\nHeska's turn to host Rosh Chodesh hosted by Heska Amuna Wome
 n's League!\n\nContact Angela Brunelle or Dahlia Smith for more info. You 
 may also visit our website or Nu News for details.
DTSTART;TZID=America/New_York:20251023T180000
DTEND;TZID=America/New_York:20251023T200000
END:VEVENT
END:VCALENDAR
