BEGIN:VCALENDAR
PRODID:-//eluceo/ical//2.0/EN
VERSION:2.0
CALSCALE:GREGORIAN
BEGIN:VEVENT
UID:4264f2814ad38f0b40f605183c4428b2
DTSTAMP:20260420T103222Z
SUMMARY:6:00p-7:00p - HA - Erev Rosh Hashanah
DESCRIPTION:The Knoxville Jewish Alliance\nThe Knoxville Jewish Alliance Ca
 lendar\nhttps://jewishknoxville.org/calendar/600p-700p---ha---erev-rosh-ha
 shanah-1505485161\n\nErev Rosh HaShanah service in the courtyard\, weathe
 r permitting.
DTSTART;TZID=America/New_York:20170920T180000
DTEND;TZID=America/New_York:20170920T190000
END:VEVENT
END:VCALENDAR
