BEGIN:VCALENDAR
PRODID:-//eluceo/ical//2.0/EN
VERSION:2.0
CALSCALE:GREGORIAN
BEGIN:VEVENT
UID:2141654dda87a11196459cf44fe4ede0
DTSTAMP:20260424T215658Z
SUMMARY:6p Kabbalat Shabbat Service-TBE
DESCRIPTION:The Knoxville Jewish Alliance\nThe Knoxville Jewish Alliance Ca
 lendar\nhttps://jewishknoxville.org/calendar/600p-kabbalat-shabbat-service
 -tbe-188208\n\nKabbalat Shabbat Service
DTSTART;TZID=America/New_York:20160701T180000
DTEND;TZID=America/New_York:20160701T193000
END:VEVENT
END:VCALENDAR
