BEGIN:VCALENDAR
PRODID:-//eluceo/ical//2.0/EN
VERSION:2.0
CALSCALE:GREGORIAN
BEGIN:VEVENT
UID:7313c1316ab01a2924e574cf14feda00
DTSTAMP:20260422T171319Z
SUMMARY:6p Kabbalat Shabbat Service/Shagan Bat Mitzvah - TBE
DESCRIPTION:The Knoxville Jewish Alliance\nThe Knoxville Jewish Alliance Ca
 lendar\nhttps://jewishknoxville.org/calendar/600pm-kabbalat-shabbat-servic
 eshagan-bat-mitzvah-tbe-189934\n\n6:00pm Kabbalat Shabbat Service/Shagan B
 at Mitzvah\n\n 
DTSTART;TZID=America/New_York:20160729T180000
DTEND;TZID=America/New_York:20160729T193000
END:VEVENT
END:VCALENDAR
