BEGIN:VCALENDAR
PRODID:-//eluceo/ical//2.0/EN
VERSION:2.0
CALSCALE:GREGORIAN
BEGIN:VEVENT
UID:2504fe9bcf91e84d75f6f9f86f3ab1e0
DTSTAMP:20260425T003024Z
SUMMARY:6:00pm - Swim Team Meet- AJCC
DESCRIPTION:The Knoxville Jewish Alliance\nThe Knoxville Jewish Alliance Ca
 lendar\nhttps://jewishknoxville.org/calendar/600pm-swim-team-meet-ajcc-307
 572\n\nDate/Time\n\n\nWarm Up Begins\n\n\nOpponent\n\n\nLocation\n\n\n\n\n
  \n\n \n \n \n\n\n\nTues. Jun 25 – 6:00PM\n\n\n5:00 PM\n\n\nNewport 
 Cocke County\n\n\nAJCC\n\n\n\n\nThurs. Jun 27 – 6:00PM\n\n\n5:30 PM\n\n\
 nRockwood\n\n\nRockwood\n\n\n\n\nTues. Jul 9 – 6:30PM\n\n\n6:00 PM\n\n\n
 Oak Ridge Aquatics Club\n\n...
DTSTART;TZID=America/New_York:20190625T180000
DTEND;TZID=America/New_York:20190625T203000
END:VEVENT
END:VCALENDAR
