BEGIN:VCALENDAR
PRODID:-//eluceo/ical//2.0/EN
VERSION:2.0
CALSCALE:GREGORIAN
BEGIN:VEVENT
UID:949fe24a61a41e8621c45b1ab0ec750b
DTSTAMP:20260421T144826Z
SUMMARY:6:15pm Class Dinner - TBE
DESCRIPTION:The Knoxville Jewish Alliance\nThe Knoxville Jewish Alliance Ca
 lendar\nhttps://jewishknoxville.org/calendar/615p-class-dinner-tbe-321822\
 n\nClass Dinner
DTSTART;TZID=America/New_York:20200403T181500
DTEND;TZID=America/New_York:20200403T190000
END:VEVENT
END:VCALENDAR
