BEGIN:VCALENDAR
PRODID:-//eluceo/ical//2.0/EN
VERSION:2.0
CALSCALE:GREGORIAN
BEGIN:VEVENT
UID:36e9b89f373a9053db36ccded70f098a
DTSTAMP:20260423T151316Z
SUMMARY:6:15pm Class Dinner - TBE
DESCRIPTION:The Knoxville Jewish Alliance\nThe Knoxville Jewish Alliance Ca
 lendar\nhttps://jewishknoxville.org/calendar/615pm-class-dinner-tbe-321818
 \n\nClass Dinner
DTSTART;TZID=America/New_York:20191108T181500
DTEND;TZID=America/New_York:20191108T190000
END:VEVENT
END:VCALENDAR
