BEGIN:VCALENDAR
PRODID:-//eluceo/ical//2.0/EN
VERSION:2.0
CALSCALE:GREGORIAN
BEGIN:VEVENT
UID:7154769aaba333dcf60e401d9126d3ac
DTSTAMP:20260423T021232Z
SUMMARY:6:30-7p Wednesday Minyan-HA
DESCRIPTION:The Knoxville Jewish Alliance\nThe Knoxville Jewish Alliance Ca
 lendar\nhttps://jewishknoxville.org/calendar/630-700p-wednesday-minyan-ha2
 -374752\n\nJoin us for Minyan with Jack Love\, followed by Daf Yomi Talmud
  chat with Raphe Panitz & Jack Love. To receive the zoom link\, see Nu Ne
 ws\, KJA Newsletter\, or contact our office 865-522-0701.
DTSTART;TZID=America/New_York:20210324T183000
DTEND;TZID=America/New_York:20210324T190000
END:VEVENT
END:VCALENDAR
