BEGIN:VCALENDAR
PRODID:-//eluceo/ical//2.0/EN
VERSION:2.0
CALSCALE:GREGORIAN
BEGIN:VEVENT
UID:9b44a4624734ab9199c2d6b3a2cfce3e
DTSTAMP:20260421T083605Z
SUMMARY:6:30-7:00p Wednesday Minyan-HA
DESCRIPTION:The Knoxville Jewish Alliance\nThe Knoxville Jewish Alliance Ca
 lendar\nhttps://jewishknoxville.org/calendar/630-700p-wednesday-worship-ha
 -336356\n\nAll Ages Worship\, Wednesdays in the Robinson Chapel\nA tradi
 tional minyan.
DTSTART;TZID=America/New_York:20191225T183000
DTEND;TZID=America/New_York:20191225T190000
END:VEVENT
END:VCALENDAR
