BEGIN:VCALENDAR
PRODID:-//eluceo/ical//2.0/EN
VERSION:2.0
CALSCALE:GREGORIAN
BEGIN:VEVENT
UID:3e26e841896e6ddc1494245b58a46e87
DTSTAMP:20260422T132142Z
SUMMARY:6:30 - 7:30 p.m. - Reunion Planning Meeting - AJCC Orwitz Room
DESCRIPTION:The Knoxville Jewish Alliance\nThe Knoxville Jewish Alliance Ca
 lendar\nhttps://jewishknoxville.org/calendar/630-730-pm--reunion-planning-
 meeting---ajcc-orwitz-room-249842\n\nReunion Planning Meeting
DTSTART;TZID=America/New_York:20171023T183000
DTEND;TZID=America/New_York:20171023T193000
END:VEVENT
END:VCALENDAR
