BEGIN:VCALENDAR
PRODID:-//eluceo/ical//2.0/EN
VERSION:2.0
CALSCALE:GREGORIAN
BEGIN:VEVENT
UID:7136867b1af978d58ae57ca9233f62a1
DTSTAMP:20260421T104414Z
SUMMARY:6:30 - 8:00 p.m. - KJA Campaign Calls
DESCRIPTION:The Knoxville Jewish Alliance\nThe Knoxville Jewish Alliance Ca
 lendar\nhttps://jewishknoxville.org/calendar/630-800-pm--kja-campaign-call
 s-AJCC-198790\n\nKJA Campaign Calls
DTSTART;TZID=America/New_York:20160725T183000
DTEND;TZID=America/New_York:20160725T200000
END:VEVENT
END:VCALENDAR
