BEGIN:VCALENDAR
PRODID:-//eluceo/ical//2.0/EN
VERSION:2.0
CALSCALE:GREGORIAN
BEGIN:VEVENT
UID:e80d13624ce3963591dfbd27bb83cfa8
DTSTAMP:20260419T231847Z
SUMMARY:6:30 - 8:30 p.m. - The Life and Work of Emile Habibi - UTK Hodges L
 ibrary
DESCRIPTION:The Knoxville Jewish Alliance\nThe Knoxville Jewish Alliance Ca
 lendar\nhttps://jewishknoxville.org/calendar/630-830-pm--the-life-and-work
 -of-emile-habibi---utk-hodges-library-247120\n\nThe Life and Work of Emile
  Habibi\n\n\n\nAn introduction to Emile Habibi by Dr. Drew Paul and a scr
 eening of the film Emil Habibi: I Stayed in Haifa \n\nTuesday\, October 
 17\n\n6:30-8:00 pm\n\nLindsay Young Auditorium\, Hodges Library\, Universi
 ty of Tennessee\n\nReception to follow
DTSTART;TZID=America/New_York:20171017T183000
DTEND;TZID=America/New_York:20171017T200000
END:VEVENT
END:VCALENDAR
