BEGIN:VCALENDAR
PRODID:-//eluceo/ical//2.0/EN
VERSION:2.0
CALSCALE:GREGORIAN
BEGIN:VEVENT
UID:d6abc0811b478c0bc6e80f00ab995835
DTSTAMP:20260422T134705Z
SUMMARY:6:30 - 9:00 p.m. - Swim Team - Swim Meet-Oak Ridge Aquatics Club
DESCRIPTION:The Knoxville Jewish Alliance\nThe Knoxville Jewish Alliance Ca
 lendar\nhttps://jewishknoxville.org/calendar/630-900-pm--swim-team---swim-
 meet-oak-ridge-aquatics-club-311786\n\nDate/Time\n\n\nWarm Up Begins\n\n\n
 Opponent\n\n\nLocation\n\n\n\n\nTues. Jul 9 – 6:30PM\n\n6:00 PM\nOak Rid
 ge Aquatics Club\nORAC\n\n\n\nThurs. Jul 18 – 6:30PM\n\n5:30 PM\nMorrist
 own B&G Club\nAJCC\n\n\n\n \n\n \n \n \n\n\n \n\n \n\n \n 
DTSTART;TZID=America/New_York:20190709T000000
DTEND;TZID=America/New_York:20190709T235959
END:VEVENT
END:VCALENDAR
