BEGIN:VCALENDAR
PRODID:-//eluceo/ical//2.0/EN
VERSION:2.0
CALSCALE:GREGORIAN
BEGIN:VEVENT
UID:42660d9649dce4cff0b2f01b2331f5a2
DTSTAMP:20260422T132152Z
SUMMARY:6:30 - 9:00 p.m. - "Trapped" Movie Event - AJCC Orwitz Room
DESCRIPTION:The Knoxville Jewish Alliance\nThe Knoxville Jewish Alliance Ca
 lendar\nhttps://jewishknoxville.org/calendar/630-900-pm--trapped-movie-eve
 nt---ajcc-orwitz-room-190258\n\n6:30 Meeting\n\n7:00 Movie\n\n8:30 Q&A
DTSTART;TZID=America/New_York:20160609T183000
DTEND;TZID=America/New_York:20160609T210000
END:VEVENT
END:VCALENDAR
