BEGIN:VCALENDAR
PRODID:-//eluceo/ical//2.0/EN
VERSION:2.0
CALSCALE:GREGORIAN
BEGIN:VEVENT
UID:22e5bd0984a108c3c57343fa09b4582b
DTSTAMP:20260425T233326Z
SUMMARY:6:30 p Pscintillating Psalms Class-Zoom-HAS
DESCRIPTION:The Knoxville Jewish Alliance\nThe Knoxville Jewish Alliance Ca
 lendar\nhttps://jewishknoxville.org/calendar/630-p-pscintillating-psalms-c
 lass-zoom-has\n\nJoin Rabbi Rosenbaum on Zoom for this fascinating class.\
 n\nHeld every other Monday.
DTSTART;TZID=America/New_York:20260309T183000
DTEND;TZID=America/New_York:20260309T193000
END:VEVENT
END:VCALENDAR
