BEGIN:VCALENDAR
PRODID:-//eluceo/ical//2.0/EN
VERSION:2.0
CALSCALE:GREGORIAN
BEGIN:VEVENT
UID:4a75e3e72645a5568826be79d355e7fb
DTSTAMP:20260419T123548Z
SUMMARY:6:30p Board of Director Meeting - TBE
DESCRIPTION:The Knoxville Jewish Alliance\nThe Knoxville Jewish Alliance Ca
 lendar\nhttps://jewishknoxville.org/calendar/630p-board-of-director-meetin
 g-tbe-304609\n\nBoard of Director Meeting
DTSTART;TZID=America/New_York:20190410T183000
DTEND;TZID=America/New_York:20190410T193000
END:VEVENT
END:VCALENDAR
