BEGIN:VCALENDAR
PRODID:-//eluceo/ical//2.0/EN
VERSION:2.0
CALSCALE:GREGORIAN
BEGIN:VEVENT
UID:682b39953fef4afe553d5d4c830f4257
DTSTAMP:20260424T041433Z
SUMMARY:6:30p Kabbalat Shabbat-HAS
DESCRIPTION:The Knoxville Jewish Alliance\nThe Knoxville Jewish Alliance Ca
 lendar\nhttps://jewishknoxville.org/calendar/630p-kabbalat-shabbat-has321\
 n\nJoin us on Zoom (in person and on Zoom when Rabbi Rosenbaum is in Knoxv
 ille) every Friday night.\n\nOneg to follow when Rabbi Rosenbaum is in Kno
 xville.
DTSTART;TZID=America/New_York:20260102T183000
DTEND;TZID=America/New_York:20260102T193000
END:VEVENT
END:VCALENDAR
