BEGIN:VCALENDAR
PRODID:-//eluceo/ical//2.0/EN
VERSION:2.0
CALSCALE:GREGORIAN
BEGIN:VEVENT
UID:c4532ef9d1da9d358b4c07a1605a2b11
DTSTAMP:20260421T120607Z
SUMMARY:6:30P KJA Executive Committee Meeting June
DESCRIPTION:The Knoxville Jewish Alliance\nThe Knoxville Jewish Alliance Ca
 lendar\nhttps://jewishknoxville.org/calendar/630p-kja-executive-committee-
 meeting-june\n\nThe Executive Committee meets monthly.
DTSTART;TZID=America/New_York:20260601T183000
DTEND;TZID=America/New_York:20260601T203000
END:VEVENT
END:VCALENDAR
