BEGIN:VCALENDAR
PRODID:-//eluceo/ical//2.0/EN
VERSION:2.0
CALSCALE:GREGORIAN
BEGIN:VEVENT
UID:ca3892aa2b4b1b082d563efc064f1ccd
DTSTAMP:20260423T175056Z
SUMMARY:6:30P KJA General Board Meeting November
DESCRIPTION:The Knoxville Jewish Alliance\nThe Knoxville Jewish Alliance Ca
 lendar\nhttps://jewishknoxville.org/calendar/630p-kja-general-board-meetin
 g-november\n\nThe General Board meets every other month at AJCC.
DTSTART;TZID=America/New_York:20261109T183000
DTEND;TZID=America/New_York:20261109T203000
END:VEVENT
END:VCALENDAR
