BEGIN:VCALENDAR
PRODID:-//eluceo/ical//2.0/EN
VERSION:2.0
CALSCALE:GREGORIAN
BEGIN:VEVENT
UID:546bd0a13dc5684682bbd0737fb1cad1
DTSTAMP:20260423T081630Z
SUMMARY:6:30P KJA General Board Meeting September
DESCRIPTION:The Knoxville Jewish Alliance\nThe Knoxville Jewish Alliance Ca
 lendar\nhttps://jewishknoxville.org/calendar/630p-kja-general-board-meetin
 g-september\n\nThe General Board Meetings are every other month at AJCC.
DTSTART;TZID=America/New_York:20260914T183000
DTEND;TZID=America/New_York:20260914T203000
END:VEVENT
END:VCALENDAR
