BEGIN:VCALENDAR
PRODID:-//eluceo/ical//2.0/EN
VERSION:2.0
CALSCALE:GREGORIAN
BEGIN:VEVENT
UID:5cb434cce30b066c287d7a8d6e214077
DTSTAMP:20260425T122238Z
SUMMARY:6:30p Matzo Ball Diaries-HA
DESCRIPTION:The Knoxville Jewish Alliance\nThe Knoxville Jewish Alliance Ca
 lendar\nhttps://jewishknoxville.org/calendar/630p-matzo-ball-diaries-ha-33
 1580\n\nPerformance of national tour.  See www.heskaamuna.org for details
 .
DTSTART;TZID=America/New_York:20191117T183000
DTEND;TZID=America/New_York:20191117T200000
END:VEVENT
END:VCALENDAR
