BEGIN:VCALENDAR
PRODID:-//eluceo/ical//2.0/EN
VERSION:2.0
CALSCALE:GREGORIAN
BEGIN:VEVENT
UID:4d819e0819e36784d63d1214dda8bb56
DTSTAMP:20260425T204759Z
SUMMARY:6:30p-Pscintillating Psalms Class-Zoom-HAS
DESCRIPTION:The Knoxville Jewish Alliance\nThe Knoxville Jewish Alliance Ca
 lendar\nhttps://jewishknoxville.org/calendar/630p-pscintillating-psalms-cl
 ass-zoom-has\n\nJoin Rabbi Rosenbaum on Zoom for his intriguing Psalms cla
 ss.
DTSTART;TZID=America/New_York:20251208T183000
DTEND;TZID=America/New_York:20251208T193000
END:VEVENT
END:VCALENDAR
