BEGIN:VCALENDAR
PRODID:-//eluceo/ical//2.0/EN
VERSION:2.0
CALSCALE:GREGORIAN
BEGIN:VEVENT
UID:82c3663ea70d19736da93c94ebec8766
DTSTAMP:20260421T174001Z
SUMMARY:6:30p-Psintillating Psalms Class (Zoom)-HAS
DESCRIPTION:The Knoxville Jewish Alliance\nThe Knoxville Jewish Alliance Ca
 lendar\nhttps://jewishknoxville.org/calendar/630p-psintillating-psalms-cla
 ss-zoom-has\n\nJoin Rabbi Rosenbaum twice a month on Zoom.
DTSTART;TZID=America/New_York:20250818T183000
DTEND;TZID=America/New_York:20250818T193000
END:VEVENT
END:VCALENDAR
