BEGIN:VCALENDAR
PRODID:-//eluceo/ical//2.0/EN
VERSION:2.0
CALSCALE:GREGORIAN
BEGIN:VEVENT
UID:ce95d399242f6a2dbb7fe84d966e534a
DTSTAMP:20260425T151716Z
SUMMARY:6:30p Shavuot Yizkor Memorial Service - TBE
DESCRIPTION:The Knoxville Jewish Alliance\nThe Knoxville Jewish Alliance Ca
 lendar\nhttps://jewishknoxville.org/calendar/630p-shavuot-yizkor-memorial-
 service-tbe-2025\n\nShavuot Yizkor Memorial Service
DTSTART;TZID=America/New_York:20250606T183000
DTEND;TZID=America/New_York:20250606T190000
END:VEVENT
END:VCALENDAR
