BEGIN:VCALENDAR
PRODID:-//eluceo/ical//2.0/EN
VERSION:2.0
CALSCALE:GREGORIAN
BEGIN:VEVENT
UID:2e27827ce948aeb898ad935606b914b8
DTSTAMP:20260423T081958Z
SUMMARY:6:30p Shavuot Yizkor Memorial Service-TBE
DESCRIPTION:The Knoxville Jewish Alliance\nThe Knoxville Jewish Alliance Ca
 lendar\nhttps://jewishknoxville.org/calendar/630p-shavuot-yizkor-memorial-
 service-tbe-2026\n\n6:30p Shavuot Yizkor memorial service
DTSTART;TZID=America/New_York:20260522T183000
DTEND;TZID=America/New_York:20260522T190000
END:VEVENT
END:VCALENDAR
