BEGIN:VCALENDAR
PRODID:-//eluceo/ical//2.0/EN
VERSION:2.0
CALSCALE:GREGORIAN
BEGIN:VEVENT
UID:4322bd8ff1d250e5bdb63bed0b99fe9a
DTSTAMP:20260423T021222Z
SUMMARY:6:30p Sunset Minyan and oneg-HA
DESCRIPTION:The Knoxville Jewish Alliance\nThe Knoxville Jewish Alliance Ca
 lendar\nhttps://jewishknoxville.org/calendar/630p-sunset-minyan-and-oneg-h
 a-297162\n\nJoin us for Sunset Minyan on the first Friday each month.
DTSTART;TZID=America/New_York:20190104T183000
DTEND;TZID=America/New_York:20190104T191500
END:VEVENT
END:VCALENDAR
