BEGIN:VCALENDAR
PRODID:-//eluceo/ical//2.0/EN
VERSION:2.0
CALSCALE:GREGORIAN
BEGIN:VEVENT
UID:4e98ec39b101326f3a005c4a03ecca49
DTSTAMP:20260420T171147Z
SUMMARY:6:30pm - HA - Sunset Minyan
DESCRIPTION:The Knoxville Jewish Alliance\nThe Knoxville Jewish Alliance Ca
 lendar\nhttps://jewishknoxville.org/calendar/630pm---ha---sunset-minyan-15
 08356295\n\nPlease join us for a traditional Kabbalat Shabbat service.
DTSTART;TZID=America/New_York:20171103T183000
DTEND;TZID=America/New_York:20171103T183000
END:VEVENT
END:VCALENDAR
