BEGIN:VCALENDAR
PRODID:-//eluceo/ical//2.0/EN
VERSION:2.0
CALSCALE:GREGORIAN
BEGIN:VEVENT
UID:2b4e211b5d8253039229649fa1b6d8cd
DTSTAMP:20260425T191431Z
SUMMARY:6:30pm Minyan & Talmud Chat-HAS (Zoom)
DESCRIPTION:The Knoxville Jewish Alliance\nThe Knoxville Jewish Alliance Ca
 lendar\nhttps://jewishknoxville.org/calendar/630pm-minyan-talmud-chat-has-
 zoom321\n\nJoin Jack Love & Raphe Panitz for a delightfully comedic Talmud
  chat wtih Minyan. Zoom only.
DTSTART;TZID=America/New_York:20260107T183000
DTEND;TZID=America/New_York:20260107T193000
END:VEVENT
END:VCALENDAR
