BEGIN:VCALENDAR
PRODID:-//eluceo/ical//2.0/EN
VERSION:2.0
CALSCALE:GREGORIAN
BEGIN:VEVENT
UID:b7414d6cf6b90493fd1da739c706a024
DTSTAMP:20260421T012606Z
SUMMARY:6:30pm Passover Yizkor Memorial Service - TBE
DESCRIPTION:The Knoxville Jewish Alliance\nThe Knoxville Jewish Alliance Ca
 lendar\nhttps://jewishknoxville.org/calendar/630pm-passover-yizkor-memoria
 l-service-tbe-355593\n\n6:30pm Passover Yizkor Memorial Service - TBE
DTSTART;TZID=America/New_York:20210402T183000
DTEND;TZID=America/New_York:20210402T190000
END:VEVENT
END:VCALENDAR
