BEGIN:VCALENDAR
PRODID:-//eluceo/ical//2.0/EN
VERSION:2.0
CALSCALE:GREGORIAN
BEGIN:VEVENT
UID:d0fc507580b866466475b99331d6ac96
DTSTAMP:20260424T042825Z
SUMMARY:6:30pm Synagogue Artwork History Tour - HA
DESCRIPTION:The Knoxville Jewish Alliance\nThe Knoxville Jewish Alliance Ca
 lendar\nhttps://jewishknoxville.org/calendar/630pm-synagogue-artwork-histo
 ry-tour-ha-245749\n\nCome tour the artwork exhibited in the Synagogue and 
 listen to the stories behind them. Wine and cheese will be served. Take a 
 trip down memory lane.
DTSTART;TZID=America/New_York:20171021T183000
DTEND;TZID=America/New_York:20171021T203000
END:VEVENT
END:VCALENDAR
