BEGIN:VCALENDAR
PRODID:-//eluceo/ical//2.0/EN
VERSION:2.0
CALSCALE:GREGORIAN
BEGIN:VEVENT
UID:99b4cc1db31a2480fde65bc621ec09dc
DTSTAMP:20260422T182458Z
SUMMARY:6:45-8:00 PM Board Meeting\, April- KJDS
DESCRIPTION:The Knoxville Jewish Alliance\nThe Knoxville Jewish Alliance Ca
 lendar\nhttps://jewishknoxville.org/calendar/645-800-pm-board-meeting-apri
 l-kjds\n\nMonthly Board Meeting
DTSTART;TZID=America/New_York:20180411T184500
DTEND;TZID=America/New_York:20180411T200000
END:VEVENT
END:VCALENDAR
