BEGIN:VCALENDAR
PRODID:-//eluceo/ical//2.0/EN
VERSION:2.0
CALSCALE:GREGORIAN
BEGIN:VEVENT
UID:9c9904c94f1ea404ab5f14cb933a731f
DTSTAMP:20260424T102750Z
SUMMARY:6:45pm-9:45pm Dancing with the Torah- Light House Knoxville
DESCRIPTION:The Knoxville Jewish Alliance\nThe Knoxville Jewish Alliance Ca
 lendar\nhttps://jewishknoxville.org/calendar/645pm-945pm-dancing-with-the-
 torah-light-house-knoxville\n\nDance with the Torah in honor of Simchat To
 rah with hakafot and joyous dancing. Full dinner buffet! Fun for kids and 
 adults alike!
DTSTART;TZID=America/New_York:20171012T184500
DTEND;TZID=America/New_York:20171012T214500
END:VEVENT
END:VCALENDAR
