BEGIN:VCALENDAR
PRODID:-//eluceo/ical//2.0/EN
VERSION:2.0
CALSCALE:GREGORIAN
BEGIN:VEVENT
UID:9ef8baab82eec84efd95fa4549d43fdb
DTSTAMP:20260424T203752Z
SUMMARY:6p Celebration of Excellence and Graduation-KJDS
DESCRIPTION:The Knoxville Jewish Alliance\nThe Knoxville Jewish Alliance Ca
 lendar\nhttps://jewishknoxville.org/calendar/6p-celebration-of-excellence-
 and-graduation-kjds\n\nTuesday\, May 24\, Celebration of Excellence and Gr
 aduation 6:00 p.m.
DTSTART;TZID=America/New_York:20160524T180000
DTEND;TZID=America/New_York:20160524T193000
END:VEVENT
END:VCALENDAR
