BEGIN:VCALENDAR
PRODID:-//eluceo/ical//2.0/EN
VERSION:2.0
CALSCALE:GREGORIAN
BEGIN:VEVENT
UID:2a62bd68e90ea532ef98a0dd3e18a064
DTSTAMP:20260425T000632Z
SUMMARY:6p Community Seder-JCOR
DESCRIPTION:The Knoxville Jewish Alliance\nThe Knoxville Jewish Alliance Ca
 lendar\nhttps://jewishknoxville.org/calendar/6p-community-seder-jcor-13546
 2\n\nJoin us for a traditional Passover Seder and meal. Relax and share th
 e holiday celebration with your family and friends. All guests are welcome
 .\n\nAdults - $36.00\nChildren - $18.00\nFamily - $108.00\n\nSince this is
  also a JCOR fundraiser\, any additional contributions are accepted and ap
 preciated.\n\nThe sitting is limited\, so send your reservations ASAP to:\
 nJCOR\nPO Box 5434\, Oak Ridge\, TN 37831-5434\n\nChecks should be made ou
 t to JCOR Passover Seder\nAll reservations (with checks!)...
DTSTART;TZID=America/New_York:20180330T180000
DTEND;TZID=America/New_York:20180330T210000
END:VEVENT
END:VCALENDAR
