BEGIN:VCALENDAR
PRODID:-//eluceo/ical//2.0/EN
VERSION:2.0
CALSCALE:GREGORIAN
BEGIN:VEVENT
UID:31b1b35e9bb2265418f9ac9c17f5e68b
DTSTAMP:20260424T130626Z
SUMMARY:6p Conversational Hebrew Class - HA
DESCRIPTION:The Knoxville Jewish Alliance\nThe Knoxville Jewish Alliance Ca
 lendar\nhttps://jewishknoxville.org/calendar/6p-conversational-hebrew-clas
 s-ha1-336359\n\nContact Peggy Littmann for details.
DTSTART;TZID=America/New_York:20191219T180000
DTEND;TZID=America/New_York:20191219T190000
END:VEVENT
END:VCALENDAR
