BEGIN:VCALENDAR
PRODID:-//eluceo/ical//2.0/EN
VERSION:2.0
CALSCALE:GREGORIAN
BEGIN:VEVENT
UID:60b16fcb79054c0ca5e7ba3a91f01064
DTSTAMP:20260425T140611Z
SUMMARY:6p KJA Exec Comm-Orwitz Rm
DESCRIPTION:The Knoxville Jewish Alliance\nThe Knoxville Jewish Alliance Ca
 lendar\nhttps://jewishknoxville.org/calendar/6p-exec-comm-orwitz-rm\n\n6p 
 KJA Executive Committee - AJCC Orwitz Room
DTSTART;TZID=America/New_York:20160111T180000
DTEND;TZID=America/New_York:20160111T193000
END:VEVENT
END:VCALENDAR
