BEGIN:VCALENDAR
PRODID:-//eluceo/ical//2.0/EN
VERSION:2.0
CALSCALE:GREGORIAN
BEGIN:VEVENT
UID:422cdcc1457c0549d1b6657e2c45c40e
DTSTAMP:20260426T044320Z
SUMMARY:6p Executive Meeting - TBE
DESCRIPTION:The Knoxville Jewish Alliance\nThe Knoxville Jewish Alliance Ca
 lendar\nhttps://jewishknoxville.org/calendar/6p-executive-meeting-tbe-2260
 26\n\nExecutive Board meeting
DTSTART;TZID=America/New_York:20170404T180000
DTEND;TZID=America/New_York:20170404T183000
END:VEVENT
END:VCALENDAR
