BEGIN:VCALENDAR
PRODID:-//eluceo/ical//2.0/EN
VERSION:2.0
CALSCALE:GREGORIAN
BEGIN:VEVENT
UID:2aae9c52043316e732b2b5d31d8509fb
DTSTAMP:20260420T023426Z
SUMMARY:6p Latke Dinner-TBE
DESCRIPTION:The Knoxville Jewish Alliance\nThe Knoxville Jewish Alliance Ca
 lendar\nhttps://jewishknoxville.org/calendar/6p-latke-dinner-tbe-206780\n\
 nLatke Dinner
DTSTART;TZID=America/New_York:20161214T180000
DTEND;TZID=America/New_York:20161214T193000
END:VEVENT
END:VCALENDAR
