BEGIN:VCALENDAR
PRODID:-//eluceo/ical//2.0/EN
VERSION:2.0
CALSCALE:GREGORIAN
BEGIN:VEVENT
UID:83ecdbce4ac8464e4e0b552bb6d5cd50
DTSTAMP:20260424T070235Z
SUMMARY:6pm Havdalah Service - TBE
DESCRIPTION:The Knoxville Jewish Alliance\nThe Knoxville Jewish Alliance Ca
 lendar\nhttps://jewishknoxville.org/calendar/6pm-havdalah-service-tbe-3693
 96\n\n6:00pm-Havdalah Service-TBE
DTSTART;TZID=America/New_York:20201212T180000
DTEND;TZID=America/New_York:20201212T183000
END:VEVENT
END:VCALENDAR
