BEGIN:VCALENDAR
PRODID:-//eluceo/ical//2.0/EN
VERSION:2.0
CALSCALE:GREGORIAN
BEGIN:VEVENT
UID:afb052dee4e919bf323ba1ba3392d7c0
DTSTAMP:20260426T044230Z
SUMMARY:6pm Havdalah Service - TBE
DESCRIPTION:The Knoxville Jewish Alliance\nThe Knoxville Jewish Alliance Ca
 lendar\nhttps://jewishknoxville.org/calendar/6pm-havdalah-service-tbe-3693
 98\n\n6:00pm-Havdalah Service-TBE
DTSTART;TZID=America/New_York:20201219T180000
DTEND;TZID=America/New_York:20201219T183000
END:VEVENT
END:VCALENDAR
