BEGIN:VCALENDAR
PRODID:-//eluceo/ical//2.0/EN
VERSION:2.0
CALSCALE:GREGORIAN
BEGIN:VEVENT
UID:d93275354aab29a52aef364c02a4deb8
DTSTAMP:20260425T174122Z
SUMMARY:6pm Latke Dinner - TBE
DESCRIPTION:The Knoxville Jewish Alliance\nThe Knoxville Jewish Alliance Ca
 lendar\nhttps://jewishknoxville.org/calendar/6pm-latke-dinner-tbe1-355585\
 n\n6pm Latke Dinner - TBE
DTSTART;TZID=America/New_York:20201211T180000
DTEND;TZID=America/New_York:20201211T190000
END:VEVENT
END:VCALENDAR
