BEGIN:VCALENDAR
PRODID:-//eluceo/ical//2.0/EN
VERSION:2.0
CALSCALE:GREGORIAN
BEGIN:VEVENT
UID:ce261532f087adbcf53f0cdb0e8bce98
DTSTAMP:20260425T020022Z
SUMMARY:6pm Rosh Chodesh Av-TBE
DESCRIPTION:The Knoxville Jewish Alliance\nThe Knoxville Jewish Alliance Ca
 lendar\nhttps://jewishknoxville.org/calendar/6pm-rosh-chodesh-av-tbe-27448
 9\n\nThe combined Sisterhoods of Heska Amuna\, JCOR\, and Temple Beth El w
 ill celebrate Rosh Chodesh Elul at TBE\nArrive in the social hall at 6:00 
 p.m. for a light meal\, our brief service\, and a discussion.\nWe are exci
 ted that Dr. Gilya Schmidt will be with us to share her knowledge and insi
 ghts about Tisha b’Av.\nRSVP to Meredith Jaffe at ldlady@charter.net or 
 (908) 507-2889.\n 
DTSTART;TZID=America/New_York:20180712T180000
DTEND;TZID=America/New_York:20180712T200000
END:VEVENT
END:VCALENDAR
