BEGIN:VCALENDAR
PRODID:-//eluceo/ical//2.0/EN
VERSION:2.0
CALSCALE:GREGORIAN
BEGIN:VEVENT
UID:085ad9d6217d497c548ab0493de75b53
DTSTAMP:20260424T231533Z
SUMMARY:6pm Shabbat Dinner - TBE
DESCRIPTION:The Knoxville Jewish Alliance\nThe Knoxville Jewish Alliance Ca
 lendar\nhttps://jewishknoxville.org/calendar/6pm-shabbat-dinner-tbe-234002
 \n\nShabbat Dinner @ no charge\n\nRSVP by July 11 to secretary@tbeknox.org
  or 865-524-3521
DTSTART;TZID=America/New_York:20170714T180000
DTEND;TZID=America/New_York:20170714T190000
END:VEVENT
END:VCALENDAR
