BEGIN:VCALENDAR
PRODID:-//eluceo/ical//2.0/EN
VERSION:2.0
CALSCALE:GREGORIAN
BEGIN:VEVENT
UID:bcd783bc9c7eac074ddfcd0c95b05db5
DTSTAMP:20260423T094337Z
SUMMARY:6pm Sisterhood Goes Out - TBE
DESCRIPTION:The Knoxville Jewish Alliance\nThe Knoxville Jewish Alliance Ca
 lendar\nhttps://jewishknoxville.org/calendar/6pm-sisterhood-goes-out-tbe-3
 41728\n\nAltruda’s Kingston Pike at Peters Road\n\nOur own Breyon Ewing 
 will sing and entertain us and your guest!!!! \n\nMake your reservation n
 ow Wilmadww@gmail.com
DTSTART;TZID=America/New_York:20200430T180000
DTEND;TZID=America/New_York:20200430T200000
END:VEVENT
END:VCALENDAR
