BEGIN:VCALENDAR
PRODID:-//eluceo/ical//2.0/EN
VERSION:2.0
CALSCALE:GREGORIAN
BEGIN:VEVENT
UID:89886de2826f4b2abe76aaa591d40258
DTSTAMP:20260421T150245Z
SUMMARY:6pm Yizkor Service - TBE
DESCRIPTION:The Knoxville Jewish Alliance\nThe Knoxville Jewish Alliance Ca
 lendar\nhttps://jewishknoxville.org/calendar/6pm-yizkor-service-tbe-255882
 \n\nPassover Yizkor Memorial Service
DTSTART;TZID=America/New_York:20180408T060000
DTEND;TZID=America/New_York:20180408T063000
END:VEVENT
END:VCALENDAR
