BEGIN:VCALENDAR
PRODID:-//eluceo/ical//2.0/EN
VERSION:2.0
CALSCALE:GREGORIAN
BEGIN:VEVENT
UID:0d46a381740286e88cee1d009714e776
DTSTAMP:20260422T182953Z
SUMMARY:7-8:30p Mandatory Swim Team PARENT mtg-AJCC Pool
DESCRIPTION:The Knoxville Jewish Alliance\nThe Knoxville Jewish Alliance Ca
 lendar\nhttps://jewishknoxville.org/calendar/7-830p-mandatory-swim-team-pa
 rent-mtg-ajcc-pool\n\nThere will be a mandatory parent meeting on Wednesda
 y\, May 25 at 7:00 pm at the AJCC Pool. The meeting will include GKAISA Co
 ncussion Training and othr information that is mandated by GSAISA. We will
  also review the USC Hazing Policy. We will also cover introductions\, ge
 neral questions\, social events\, meet schedule\, team communication and v
 olunteer opportunities.
DTSTART;TZID=America/New_York:20160525T190000
DTEND;TZID=America/New_York:20160525T203000
END:VEVENT
END:VCALENDAR
