BEGIN:VCALENDAR
PRODID:-//eluceo/ical//2.0/EN
VERSION:2.0
CALSCALE:GREGORIAN
BEGIN:VEVENT
UID:904850640184db95b25814750846ad8f
DTSTAMP:20260421T184825Z
SUMMARY:7-9 p.m. - GKAISA Meeting - AJCC Orwitz Room
DESCRIPTION:The Knoxville Jewish Alliance\nThe Knoxville Jewish Alliance Ca
 lendar\nhttps://jewishknoxville.org/calendar/7-9-pm-ghaisa-meeting--ajcc-o
 rwitz-room-185032\n\nGKAISA Meeting
DTSTART;TZID=America/New_York:20160512T190000
DTEND;TZID=America/New_York:20160512T210000
END:VEVENT
END:VCALENDAR
