BEGIN:VCALENDAR
PRODID:-//eluceo/ical//2.0/EN
VERSION:2.0
CALSCALE:GREGORIAN
BEGIN:VEVENT
UID:4a09047e25d36e355940222aa91d3d5c
DTSTAMP:20260421T015933Z
SUMMARY:7-9 PM Parents Night Out-KJDS
DESCRIPTION:The Knoxville Jewish Alliance\nThe Knoxville Jewish Alliance Ca
 lendar\nhttps://jewishknoxville.org/calendar/7-9-pm-parents-night-out-kjds
 \n\nParents night out- Maple Hall Bowling 
DTSTART;TZID=America/New_York:20180210T190000
DTEND;TZID=America/New_York:20180210T210000
END:VEVENT
END:VCALENDAR
